BEGIN:VCALENDAR
VERSION:2.0
PRODID:-//A.M.P Training - ECPv6.15.20//NONSGML v1.0//EN
CALSCALE:GREGORIAN
METHOD:PUBLISH
X-WR-CALNAME:A.M.P Training
X-ORIGINAL-URL:https://amp-training.co.uk
X-WR-CALDESC:Events for A.M.P Training
REFRESH-INTERVAL;VALUE=DURATION:PT1H
X-Robots-Tag:noindex
X-PUBLISHED-TTL:PT1H
BEGIN:VTIMEZONE
TZID:Europe/London
BEGIN:DAYLIGHT
TZOFFSETFROM:+0000
TZOFFSETTO:+0100
TZNAME:BST
DTSTART:20250330T010000
END:DAYLIGHT
BEGIN:STANDARD
TZOFFSETFROM:+0100
TZOFFSETTO:+0000
TZNAME:GMT
DTSTART:20251026T010000
END:STANDARD
BEGIN:DAYLIGHT
TZOFFSETFROM:+0000
TZOFFSETTO:+0100
TZNAME:BST
DTSTART:20260329T010000
END:DAYLIGHT
BEGIN:STANDARD
TZOFFSETFROM:+0100
TZOFFSETTO:+0000
TZNAME:GMT
DTSTART:20261025T010000
END:STANDARD
BEGIN:DAYLIGHT
TZOFFSETFROM:+0000
TZOFFSETTO:+0100
TZNAME:BST
DTSTART:20270328T010000
END:DAYLIGHT
BEGIN:STANDARD
TZOFFSETFROM:+0100
TZOFFSETTO:+0000
TZNAME:GMT
DTSTART:20271031T010000
END:STANDARD
END:VTIMEZONE
BEGIN:VEVENT
DTSTART;TZID=Europe/London:20260518T080000
DTEND;TZID=Europe/London:20260605T170000
DTSTAMP:20260424T133502
CREATED:20260221T181955Z
LAST-MODIFIED:20260220T182912Z
UID:3684-1779091200-1780678800@amp-training.co.uk
SUMMARY:SIA Door Supervisor Course
DESCRIPTION:SIA Door Supervisor Course\n—-    Book NOW!    —-\nStepping into the world of professional security starts with the right training\, and the SIA Door Supervisor course is the gateway for anyone looking to build confidence\, capability\, and credibility in the industry. Whether you’re aiming to work in venues\, events\, hospitality\, or frontline security roles\, this qualification gives you the essential skills to keep people safe and handle real‑world situations with professionalism. \n📅 SIA Door Supervisor Course Dates & Times\n \nTraining is delivered across the following dates: \n\n18th – 21st May 2026\n3rd & 5th June 2026\n09:00 – 17:00 daily\n\nThese sessions cover all mandatory SIA units\, including conflict management\, physical intervention\, and working in licensed premises. \n \n📍 Local Training Venue in Lincoln\nAll training takes place at:\nLindum Business Park\, North Hykeham\nThis location is ideal for learners based in:\n• Lincoln – quick and convenient\n• Sleaford – direct access via the A15\n• Newark – easy route via the A46\n• Gainsborough – straightforward travel via the A156\nFree parking and a professional training environment make this a smooth and accessible learning experience. \n💷 Course Fee\n£290.00\nThis includes all training\, assessments\, materials\, and certification through our accredited awarding partners. \nWhy Train With AMP Training & Consultancy?\nAMP Training & Consultancy is an SFJ Awards Approved Centre\, delivering high‑quality\, compliant\, and industry‑recognised qualifications. Our trainers are:\n• NFPS‑certified\n• SIA DS PI Licensed Trainers\n• Experienced in real‑world security operations\n• Known for supportive\, engaging\, and professional delivery\nWe also ensure learners meet the required first aid standard through our FAIB‑aligned training\, giving you everything you need to progress confidently into the security sector. \n \nWho Is This SIA Door Supervisor Course Is For?\nThis SIA Door Supervisor course is perfect for: \n\nAnyone seeking work in events\, festivals\, bars\, clubs\, retail\, or corporate security\nPeople looking for a career change with strong job prospects\nLearners from Lincoln\, Sleaford\, Newark\, Gainsborough\, and surrounding areas\nIndividuals wanting a recognised qualification to boost employability\n\nWhether you’re new to the industry or looking to formalise your skills\, this course gives you everything required to apply for your SIA licence. \n \n📌 Register Your Place Online \nSpaces are limited and fill quickly — especially for learners travelling from across Lincolnshire and Nottinghamshire. \nJust Click Here to register now via our online booking form: \nOr Go \n—-    Book NOW!    —-\n \nOr if you prefer to speak to us directly: \n📞 Call 01522 262 908 \n \n \nStart Your Security Career Locally As A SIA Door Supervisor:\nIf you’re based in Lincoln\, Sleaford\, Newark\, or Gainsborough\, this is your nearest opportunity to complete your SIA Door Supervisor qualification with a trusted\, accredited training provider. \nTake the first step toward a new career — secure your place today
URL:https://amp-training.co.uk/event/sia-door-supervisor-course/
LOCATION:Acorn House\, Lindum Business Park \,Station Rd\, North Hykeham\,\, Lincoln\, Lincolnshire\, LN6 3QX\, United Kingdom
CATEGORIES:SIA Door Supervisor Full Course,SIA Door Supervisor Refresher Course
ATTACH;FMTTYPE=image/jpeg:https://amp-training.co.uk/wp-content/uploads/2026/02/SIA-Door-Supervisor-Course-may-june-26.jpg
ORGANIZER;CN="Anthony Porter":MAILTO:ant@amp-training.co.uk
END:VEVENT
BEGIN:VEVENT
DTSTART;VALUE=DATE:20260603
DTEND;VALUE=DATE:20260606
DTSTAMP:20260424T133502
CREATED:20260311T123329Z
LAST-MODIFIED:20260312T084746Z
UID:3753-1780444800-1780703999@amp-training.co.uk
SUMMARY:SIA Door Supervisor Refresher
DESCRIPTION:Refreshing your SIA Door Supervisor qualification is essential for staying compliant\, employable\, and confident in frontline security roles. This accredited refresher course is delivered in Lincoln and is ideal for professionals travelling from Sleaford\, Newark\, Gainsborough\, Grantham\, Boston\, Scunthorpe\, Retford\, Worksop\, Doncaster\, and the surrounding Lincolnshire and Nottinghamshire areas. \n—-    Book NOW!    —-\n📅 SIA Door Supervisor Refresher Course Dates\n3rd & 5th June 2026\n0830hrs – 1700hrs \nThis two‑day refresher covers the latest SIA requirements\, updated legislation\, conflict management\, physical intervention standards\, and best practices for modern security environments. \n💷 SIA Door Supervisor Course Fee\n£170.00 \nThis includes all training\, assessment\, and certification with no hidden costs. Designed for working Door Supervisors needing to renew their qualification efficiently and professionally. \n📍SIA Door Supervisor Refresher Training Location\nAcorn House\, Lindum Business Park\, North Hykeham. \nThe venue offers easy access from the A46\, A15\, A1 and A52\, making it convenient for learners travelling from across Lincolnshire and Nottinghamshire within a one‑hour radius. \n🏆 Why Professionals Choose AMP Training\nTraining is delivered by experienced\, SIA‑licensed instructors and supported by nationally recognised bodies: \n• NFPS Ltd\n• SFJ Awards (Approved Centre)\n• FAIB – First Aid Industry Body \nThis ensures high‑quality\, compliant training that meets current SIA standards and employer expectations across the region. \n—-    Book NOW!    —-\nWhy SIA Door Supervisors Need Refresher Training\nRefresher training is essential for every SIA Door Supervisor because the security industry is constantly evolving\, and frontline professionals must stay aligned with current legislation\, safety standards\, and operational best practice. \nThe role carries legal responsibilities under the Private Security Industry Act\, and updated SIA guidance means supervisors must understand new requirements around licensing\, safeguarding\, incident reporting\, and the lawful use of force. \nRegular refresher training ensures that every SIA Door Supervisor maintains competence in conflict management\, communication\, and physical intervention—skills that directly impact public safety and the safe running of licensed venues. It also reinforces situational awareness and decision‑making\, helping supervisors respond effectively to modern risks such as vulnerability management\, crowd dynamics\, and emerging behavioural trends. \nEmployers increasingly expect Door Supervisors to demonstrate up‑to‑date training as part of their professional standards\, and refresher courses provide documented evidence of compliance that supports both individual licensing and organisational due diligence. \nCompleting refresher training reduces the likelihood of incidents\, improves team performance\, and ensures that supervisors can confidently apply the latest SIA‑approved techniques in real‑world environments. It also strengthens the reputation of the security industry by ensuring that every SIA Door Supervisor on duty is trained\, competent\, and capable of delivering a safe and professional service. \nThis ongoing development is not only a regulatory requirement—it is a critical part of maintaining high‑quality security provision across the UK.
URL:https://amp-training.co.uk/event/sia-door-supervisor-refresher/
LOCATION:Acorn House\, Lindum Business Park \,Station Rd\, North Hykeham\,\, Lincoln\, Lincolnshire\, LN6 3QX\, United Kingdom
CATEGORIES:SIA Door Supervisor Refresher Course
ATTACH;FMTTYPE=image/jpeg:https://amp-training.co.uk/wp-content/uploads/2026/03/DS-Refresher-June-26.jpg
ORGANIZER;CN="Anthony Porter":MAILTO:ant@amp-training.co.uk
END:VEVENT
END:VCALENDAR