BEGIN:VCALENDAR
VERSION:2.0
PRODID:-//A.M.P Training - ECPv6.15.20//NONSGML v1.0//EN
CALSCALE:GREGORIAN
METHOD:PUBLISH
X-WR-CALNAME:A.M.P Training
X-ORIGINAL-URL:https://amp-training.co.uk
X-WR-CALDESC:Events for A.M.P Training
REFRESH-INTERVAL;VALUE=DURATION:PT1H
X-Robots-Tag:noindex
X-PUBLISHED-TTL:PT1H
BEGIN:VTIMEZONE
TZID:Europe/London
BEGIN:DAYLIGHT
TZOFFSETFROM:+0000
TZOFFSETTO:+0100
TZNAME:BST
DTSTART:20230326T010000
END:DAYLIGHT
BEGIN:STANDARD
TZOFFSETFROM:+0100
TZOFFSETTO:+0000
TZNAME:GMT
DTSTART:20231029T010000
END:STANDARD
BEGIN:DAYLIGHT
TZOFFSETFROM:+0000
TZOFFSETTO:+0100
TZNAME:BST
DTSTART:20240331T010000
END:DAYLIGHT
BEGIN:STANDARD
TZOFFSETFROM:+0100
TZOFFSETTO:+0000
TZNAME:GMT
DTSTART:20241027T010000
END:STANDARD
BEGIN:DAYLIGHT
TZOFFSETFROM:+0000
TZOFFSETTO:+0100
TZNAME:BST
DTSTART:20250330T010000
END:DAYLIGHT
BEGIN:STANDARD
TZOFFSETFROM:+0100
TZOFFSETTO:+0000
TZNAME:GMT
DTSTART:20251026T010000
END:STANDARD
BEGIN:DAYLIGHT
TZOFFSETFROM:+0000
TZOFFSETTO:+0100
TZNAME:BST
DTSTART:20260329T010000
END:DAYLIGHT
BEGIN:STANDARD
TZOFFSETFROM:+0100
TZOFFSETTO:+0000
TZNAME:GMT
DTSTART:20261025T010000
END:STANDARD
BEGIN:DAYLIGHT
TZOFFSETFROM:+0000
TZOFFSETTO:+0100
TZNAME:BST
DTSTART:20270328T010000
END:DAYLIGHT
BEGIN:STANDARD
TZOFFSETFROM:+0100
TZOFFSETTO:+0000
TZNAME:GMT
DTSTART:20271031T010000
END:STANDARD
END:VTIMEZONE
BEGIN:VEVENT
DTSTART;TZID=Europe/London:20260210T080000
DTEND;TZID=Europe/London:20260211T170000
DTSTAMP:20260424T120011
CREATED:20251213T151350Z
LAST-MODIFIED:20251213T151653Z
UID:3287-1770710400-1770829200@amp-training.co.uk
SUMMARY:SIA Door Supervisor Refresher Training - Feb 2026
DESCRIPTION:—-    Book NOW!    —-\nDoor Supervisor Refresher Course Overview\nThe Door Supervisor Refresher course runs over 2 days. Learners also gain 12 months of access to online materials after attending\, making it easy to revisit key topics whenever needed. \nAccreditation\nYou will achieve the Highfield Level 2 Award for Door Supervisors in the Private Security Industry (Refresher). Anyone renewing their SIA Door Supervisor Licence must complete this refresher training to remain compliant. \nWhy Take the Door Supervisor Refresher Course?\nRenewing your licence is more than a requirement — it keeps your skills current and ensures you meet industry standards. The course covers conflict management\, situational awareness\, and physical intervention skills. These skills prepare you for modern security challenges and increase your confidence on the job. \nRecommended Timing\nWe recommend completing the Door Supervisor Refresher around 6 months before your licence renewal date. By acting early\, you avoid last‑minute stress and maintain continuous eligibility to work. \nDoor Supervisor Refresher Assessment\nYou will complete multiple‑choice exams and practical assessments. This balanced approach tests both your knowledge and your ability to apply skills in real situations. \nLegal Requirement\nAll Door Supervisors renewing their SIA Licence must complete approved SIA Refresher Training for Door Supervisors. Without this training\, you cannot continue working in the private security industry. \nThe course ensures you understand updated risks and meet the legal requirement for Emergency First Aid at Work (EFAW) knowledge. \nPlease note that the Door Supervisor Refresher course does not include first aid training. Learners must hold a minimum of a valid Emergency First Aid at Work (EFAW) certificate with at least 12 months remaining before attending. \n**You will need to provide a copy of your First Aid Certificate** \nIf your certificate is due to expire or you do not currently hold one\, you can complete the required first aid qualification with us on a separate course. \nThis ensures you remain fully compliant with SIA regulations and prepared for licence renewal. \nOur Training Venue\nOur courses are usually held at Acorn House\, Lindum Business Park in North Hykeham\, Lincoln\, giving you a professional and welcoming place to learn. If it’s easier for your team\, we can also bring the training to your own site when booked as a block session. This way\, you get the same high‑quality learning experience in a familiar setting\, with the added convenience of keeping your staff together. \nBooking Information\nWhen booking your place on the course\, please ensure you confirm your chosen dates of attendance. This helps us allocate spaces effectively and provide you with the best learning experience. \n  \nReady to renew your SIA Door Supervisor Licence? \nIf you also need Emergency First Aid at Work (EFAW)\, book both courses together today. Completing the EFAW alongside your Door Supervisor Refresher ensures you meet all legal requirements\, refresh essential skills\, and stay fuly compliant with industry standards. Secure your place now and continue working confidently in the private security sector \nCLICK HERE TO BOOK THE COMBINED EFAW & DOOR SUPERVISOR REFRESHER
URL:https://amp-training.co.uk/event/3287/
LOCATION:Acorn House\, Lindum Business Park \,Station Rd\, North Hykeham\,\, Lincoln\, Lincolnshire\, LN6 3QX\, United Kingdom
CATEGORIES:SIA Door Supervisor Refresher Course,Training
ATTACH;FMTTYPE=image/jpeg:https://amp-training.co.uk/wp-content/uploads/2025/12/DS-EFAW2.jpg
ORGANIZER;CN="Anthony Porter":MAILTO:ant@amp-training.co.uk
END:VEVENT
BEGIN:VEVENT
DTSTART;TZID=Europe/London:20260209T083000
DTEND;TZID=Europe/London:20260209T170000
DTSTAMP:20260424T120011
CREATED:20251213T150843Z
LAST-MODIFIED:20251213T151901Z
UID:3285-1770625800-1770656400@amp-training.co.uk
SUMMARY:Emergency First Aid At Work - Lincoln
DESCRIPTION:—-    Book NOW!    —-\nThe Emergency First Aid at Work (EFAW) course is designed to equip individuals with the basic knowledge and skills to provide immediate and appropriate first aid in the workplace. It covers essential lifesaving techniques to respond to various medical emergencies until professional medical help arrives. \n\n\n\n\nWho needs this qualification? \nThis course suits lower-risk work environments\, such as offices\, shops\, or organisations with fewer than 100 employees. \nIt is also suitable for anyone identified by their employer as suitable to take on the role of an emergency first aider in their workplace. \n\n\n\n\nWhy is this training important? \nHaving the skills and knowledge to administer emergency first aid to oneself and others is vital to an organisation’s emergency plans and procedures. This course will equip delegates with the skills and knowledge to deal with life-threatening conditions until help arrives. \nThe H&S (First Aid) regulations 1981 place a general duty on employers to provide first aid treatment to employees within the workplace environment. If having assessed the first aid needs\, an employer appoints first aiders\, the first aider must have a valid certificate of competence. \n\n\n\n\nLearning outcomes \n\n\n\n\nUpon completion of the course\, learners will be able to: \n\n To understand the role and responsibilities of a First Aider\n To be able to assess the situation and circumstances in order to act safely\, promptly and effectively in an emergency\n To be able to administer First Aid to a casualty who is unconscious and not breathing normally\n To be able to administer First Aid to a casualty who is conscious or unconscious and breathing normally\n To be able to administer First Aid to a casualty who is choking\n To be able to administer First Aid to a casualty who is experiencing a seizure\n To be able to administer First Aid to a casualty who is wounded and bleeding\n Be able to administer First Aid to a casualty who is suffering from shock\n Be able to administer First Aid to a casualty with life-threatening bleeding.*Optional (additional time required)\n\n\n\n 
URL:https://amp-training.co.uk/event/emergency-first-aid-at-work-lincoln/
LOCATION:Acorn House\, Lindum Business Park \,Station Rd\, North Hykeham\,\, Lincoln\, Lincolnshire\, LN6 3QX\, United Kingdom
CATEGORIES:Emergency First Aid At Work
ATTACH;FMTTYPE=image/jpeg:https://amp-training.co.uk/wp-content/uploads/2025/12/First-Aid-Collage-e1774883326117.jpg
ORGANIZER;CN="Anthony Porter":MAILTO:ant@amp-training.co.uk
END:VEVENT
BEGIN:VEVENT
DTSTART;TZID=Europe/London:20251213T080000
DTEND;TZID=Europe/London:20251213T170000
DTSTAMP:20260424T120011
CREATED:20251213T152133Z
LAST-MODIFIED:20251213T152133Z
UID:3295-1765612800-1765645200@amp-training.co.uk
SUMMARY:EFAW & Door Supervisor Refresher Course - Feb 2025
DESCRIPTION:—-    Book NOW!    —-\nEFAW & SIA Door Supervisor Refresher Course Overview\nAMP Training offers a combined pathway for learners who need both Emergency First Aid at Work (EFAW) and the SIA Door Supervisor Refresher. These essential qualifications ensure compliance with industry standards and prepare you to continue working confidently in the private security sector. \n\nThe Emergency First Aid at Work course is underwritten by the First Aid Industry Body (FAIB)\, guaranteeing nationally recognised standards and practical\, workplace‑ready skills.\nThe Door Supervisor Refresher course is accredited by Highfield Qualifications\, ensuring your training meets the latest SIA requirements for licence renewal.\n\nWhy Choose This Training?\n\nStay compliant: Both courses are mandatory for licence renewal and continued employment in the security industry.\nRecognised awarding bodies: FAIB and Highfield provide trusted accreditation.\nPractical and relevant: Training covers real‑world scenarios\, updated risks\, and essential first aid knowledge.\nFlexible learning: Access online materials for 12 months after completion of the refresher course.\n\nEmergency First Aid at Work (EFAW)\nThis one‑day course equips learners with the skills to respond to workplace emergencies. Topics include: \n\nCPR and AED use\nManaging bleeding and shock\nTreating burns and fractures\nHandling medical emergencies such as asthma or allergic reactions\nCritial Bleeds\n\nLearners must hold a valid EFAW certificate with at least 12 months remaining when attending the Door Supervisor Refresher. If you do not currently meet this requirement\, AMP Training offers the EFAW course separately to ensure you remain compliant. \nSIA Door Supervisor Refresher\nThe refresher course runs over 2 days and is designed for existing licence holders. It covers: \n\nUpdated legislation and duty of care\nEmergency procedures and risk management\nPractical assessments and multiple‑choice exams\nPhysical Intervention refresher\n\nWe recommend completing the Door Supervisor Refresher around 6 months before your licence renewal date to avoid disruption to your work. \nAssessment and Certification\n\nEFAW: Practical demonstrations and short written assessments.\nDoor Supervisor Refresher: Multiple‑choice exams and practical assessments.\n\nSuccessful learners will receive recognised certification from FAIB and Highfield\, ensuring compliance with SIA regulations. \nOur Training Venue\nOur courses are usually held at Acorn House\, Lindum Business Park in North Hykeham\, Lincoln\, giving you a professional and welcoming place to learn. If it’s easier for your team\, we can also bring the training to your own site when booked as a block session. This way\, you get the same high‑quality learning experience in a familiar setting\, with the added convenience of keeping your staff together. \nBook Your Place\nSecure your training today with AMP Training. Whether you need the Emergency First Aid at Work course\, the Door Supervisor Refresher\, or both\, we provide professional\, accredited training tailored to the needs of the security industry. \n  \n—-    Book NOW!    —-
URL:https://amp-training.co.uk/event/efaw-door-supervisor-refresher-course-feb-2025/
LOCATION:Lincolnshire
CATEGORIES:Emergency First Aid At Work,SIA Door Supervisor Refresher Course,Training
ATTACH;FMTTYPE=image/jpeg:https://amp-training.co.uk/wp-content/uploads/2025/12/DS-EFAW2.jpg
END:VEVENT
BEGIN:VEVENT
DTSTART;TZID=Europe/London:20250710T080000
DTEND;TZID=Europe/London:20250711T170000
DTSTAMP:20260424T120011
CREATED:20250611T111747Z
LAST-MODIFIED:20250618T120036Z
UID:2167-1752134400-1752253200@amp-training.co.uk
SUMMARY:SIA Door Supervisors Refresher Course
DESCRIPTION:[button title=”JOIN US FOR THIS COURSE” link=”https://amp-training.co.uk/courses/sia-door-supervisors-full-course/” target=”_blank” align=”” icon=”” icon_position=”” color=”” font_color=”” size=”2″ full_width=”” class=”” download=”” rel=””] \n🔄 Door Supervisor Refresher Course – July 2025 🔄Is your SIA Door Supervisor qualification due for renewal? Stay compliant and up-to-date with the latest practices through our accredited refresher training. \nAMP Training & Consultancy\, a Highfield Approved Centre\, is delivering a 2-day refresher course this July in North Hykeham. \n🕣 Time: 08:30 AM – 5:00 PM📅 Dates: 10th & 11th July 2025💷 Cost: £120.00 \n📍 Location:Acorn House\, Lindum Business Park\, North Hykeham \n✅ Delivered by SIA DS PI Licensed Trainers✅ NFPS Ltd Certified✅ FAIB Registered for First Aid \nKeep your skills sharp and your badge active with industry-recognised training from trusted professionals. \n📞 For more info or to book\, call 01522 262 908 \n#SIADoorSupervisor #SecurityTraining #RefresherCourse #HighfieldApproved #NFPS #FAIB #AMPTraining #LincolnshireSecurity #NorthHykeham #SecurityIndustry #ProfessionalDevelopment #StayCertified
URL:https://amp-training.co.uk/event/sia-door-supervisors-refresher-course/
LOCATION:Acorn House\, Lindum Business Park \,Station Rd\, North Hykeham\,\, Lincoln\, Lincolnshire\, LN6 3QX\, United Kingdom
CATEGORIES:SIA Door Supervisor Refresher Course,SIA Door Supervisor Top-Up,Training
ATTACH;FMTTYPE=image/jpeg:https://amp-training.co.uk/wp-content/uploads/2025/06/DS-Refresher-July-25.jpg
ORGANIZER;CN="Anthony Porter":MAILTO:ant@amp-training.co.uk
END:VEVENT
BEGIN:VEVENT
DTSTART;TZID=Europe/London:20250701T080000
DTEND;TZID=Europe/London:20250711T170000
DTSTAMP:20260424T120011
CREATED:20250611T110702Z
LAST-MODIFIED:20250615T132457Z
UID:2163-1751356800-1752253200@amp-training.co.uk
SUMMARY:SIA Door Supervisors Full Course
DESCRIPTION:🚨 SIA Door Supervisor Course – July 2025 🚨Looking to step into the world of security? Now’s your chance! \nJoin AMP Training & Consultancy for our comprehensive SIA Door Supervisor Course this July at Lindum Business Park\, North Hykeham. \n🕘 Time & Dates:9:00 AM – 5:00 PM📅 1st–4th July 2025📅 10th–11th July 2025 \n💷 Course Fee: £270.00📍 Location: Lindum Business Park\, North Hykeham✅ Highfield Approved Centre \nWhether you’re looking to work at events\, venues\, or nightlife establishments\, this course is your gateway into the security industry. Get trained by professionals in a hands-on\, supportive environment. \n📞 To book or find out more\, call 01522 262 908 \nSpaces are limited – secure your place today and start your journey in the security sector! \n#SIA #DoorSupervisor #SecurityTraining #NorthHykeham #LincolnshireEvents #AMPTraining #HighfieldApproved #EventSecurity #SecurityCourse2025
URL:https://amp-training.co.uk/event/sia-door-supervisors-full-course-2/
LOCATION:Acorn House\, Lindum Business Park \,Station Rd\, North Hykeham\,\, Lincoln\, Lincolnshire\, LN6 3QX\, United Kingdom
CATEGORIES:SIA Door Supervisor Full Course,Training
ATTACH;FMTTYPE=image/jpeg:https://amp-training.co.uk/wp-content/uploads/2025/06/SIA-Door-Supervisor-Course-July-25.jpg
ORGANIZER;CN="Anthony Porter":MAILTO:ant@amp-training.co.uk
END:VEVENT
BEGIN:VEVENT
DTSTART;VALUE=DATE:20250430
DTEND;VALUE=DATE:20250502
DTSTAMP:20260424T120011
CREATED:20241224T152653Z
LAST-MODIFIED:20250410T144447Z
UID:1594-1745971200-1746143999@amp-training.co.uk
SUMMARY:SIA Door Supervisor Refresher Course
DESCRIPTION:Highfield Level 2 Award for Door Supervisors in the Private Security Industry (Refresher)\n\n\n\nIf you are looking at renewing your door supervisors licence you will be required to complete a Refresher course. \nwe recommend that this course is completed around 6 months before you are due to renew. \nThe course will be assessed with multiple-choice exams and practical assessments. \nDoor Supervisors who are renewing their SIA Licence need to complete a SIA Refresher Training for Door Supervisors training course. \nThis is a legal requirement to continue working in the security industry as the training covers new risks and Emergency First Aid at Work (EFAW) knowledge) \n\n[share_box]
URL:https://amp-training.co.uk/event/sia-door-supervisor-refresher-course/
LOCATION:Acorn House\, Lindum Business Park \,Station Rd\, North Hykeham\,\, Lincoln\, Lincolnshire\, LN6 3QX\, United Kingdom
CATEGORIES:SIA Door Supervisor Refresher Course,Training
ATTACH;FMTTYPE=image/jpeg:https://amp-training.co.uk/wp-content/uploads/2024/09/SIA.jpg
ORGANIZER;CN="Anthony Porter":MAILTO:ant@amp-training.co.uk
END:VEVENT
BEGIN:VEVENT
DTSTART;TZID=Europe/London:20250423T090000
DTEND;TZID=Europe/London:20250501T170000
DTSTAMP:20260424T120011
CREATED:20250303T100804Z
LAST-MODIFIED:20250303T110559Z
UID:2016-1745398800-1746118800@amp-training.co.uk
SUMMARY:SIA Door Supervisors Full Course
DESCRIPTION:Highfield Level 2 Award for Working as a Door Supervisor within the Private Security Industry \nAny business selling alcohol\, including small pubs\, retailers\, large nightclubs\, cafés\, restaurants\, hotels and sports facilities may need trained security staff qualified as door supervisors who hold an SIA licence. \nA level 2 award for working as a door supervisor within the private security industry qualification is required by law for an individual to apply for a SIA licence to work as a door supervisor. \n  \nWHAT DOES THE QUALIFICATION COVER? \nTopics include: \n• the main characteristics of the private security industry \n• understanding the law when working as a door supervisor \n• safe working practices and emergency procedures \n• the searching of people and property \n• keeping vulnerable people safe \n• the powers of arrest of a door supervisor \n• incident reporting and crime scene preservation
URL:https://amp-training.co.uk/event/sia-door-supervisors-full-course/
LOCATION:Acorn House\, Lindum Business Park \,Station Rd\, North Hykeham\,\, Lincoln\, Lincolnshire\, LN6 3QX\, United Kingdom
CATEGORIES:SIA Door Supervisor Full Course
ATTACH;FMTTYPE=image/jpeg:https://amp-training.co.uk/wp-content/uploads/2025/03/SIA-Door-Supervisor-Course-April-2025.jpg
ORGANIZER;CN="Anthony Porter":MAILTO:ant@amp-training.co.uk
END:VEVENT
BEGIN:VEVENT
DTSTART;TZID=Europe/London:20250422T090000
DTEND;TZID=Europe/London:20250422T170000
DTSTAMP:20260424T120011
CREATED:20250303T092627Z
LAST-MODIFIED:20250303T101522Z
UID:2014-1745312400-1745341200@amp-training.co.uk
SUMMARY:Emergency First Aid At Work
DESCRIPTION:One Day Emergeny First Aid At Work\nWho is this qualification for? \nThis qualification is aimed at learners who wish to become emergency first-aiders in the workplace. This qualification meets the requirements for training emergency first-aiders in those organisations that have identified that staff need to be trained to this level within their first-aid needs assessment. \nHow long will it take? \nTo complete this emergency first aid at work qualification learners should expect to undertake 8 hours of learning\, typically over one day\, with a minimum contact time of 6 hours. \nTopics covered \nThe qualification covers knowledge such as the roles and responsibilities of the first aider and how to assess an incident. The qualification also covers first aid skills in CPR and use of an AED\, providing first aid to a casualty who is choking and dealing with external bleeding and hypovolaemic shock. \n  \n\n\nThe Emergency First Aid at Work (EFAW) course is designed to equip individuals with the basic knowledge and skills to provide immediate and appropriate first aid in the workplace. It covers essential lifesaving techniques to respond to various medical emergencies until professional medical help arrives. \n\n\n\n\nWho needs this qualification? \nThis course suits lower-risk work environments\, such as offices\, shops\, or organisations with fewer than 100 employees. \nIt is also suitable for anyone identified by their employer as suitable to take on the role of an emergency first aider in their workplace. \n\n\n\n\nWhy is this training important? \nHaving the skills and knowledge to administer emergency first aid to oneself and others is vital to an organisation’s emergency plans and procedures. This course will equip delegates with the skills and knowledge to deal with life-threatening conditions until help arrives. \nThe H&S (First Aid) regulations 1981 place a general duty on employers to provide first aid treatment to employees within the workplace environment. If having assessed the first aid needs\, an employer appoints first aiders\, the first aider must have a valid certificate of competence. \n\n\n\n\nLearning outcomes \n\n\n\n\nUpon completion of the course\, learners will be able to: \n\nUnderstand the role and responsibility of a first aider\nAssess an incident\nManage a casualty who is unresponsive and NOT breathing normally\nProvide first aid to an unresponsive and breathing normally casualty\nManage a casualty who is in seizure\nRecognise and assist a casualty who is choking\nManage a casualty with external bleeding\nManage a casualty who is in shock\nUnderstand how to manage a casualty with a minor injury\nUnderstand how to manage a casualty with bites or stings\nUnderstand how to manage a casualty with minor burns and scalds
URL:https://amp-training.co.uk/event/emergency-first-aid-at-work-2/
LOCATION:Acorn House\, Lindum Business Park \,Station Rd\, North Hykeham\,\, Lincoln\, Lincolnshire\, LN6 3QX\, United Kingdom
CATEGORIES:Emergency First Aid At Work
ATTACH;FMTTYPE=image/jpeg:https://amp-training.co.uk/wp-content/uploads/2024/03/FAIB-For-Website.jpg
ORGANIZER;CN="Anthony Porter":MAILTO:ant@amp-training.co.uk
END:VEVENT
BEGIN:VEVENT
DTSTART;TZID=Europe/London:20250219T083000
DTEND;TZID=Europe/London:20250219T160000
DTSTAMP:20260424T120011
CREATED:20241224T153741Z
LAST-MODIFIED:20241224T153741Z
UID:1599-1739953800-1739980800@amp-training.co.uk
SUMMARY:Emergency First Aid At Work
DESCRIPTION:One Day Emergeny First Aid At Work\nWho is this qualification for? \nThis qualification is aimed at learners who wish to become emergency first-aiders in the workplace. This qualification meets the requirements for training emergency first-aiders in those organisations that have identified that staff need to be trained to this level within their first-aid needs assessment. \nHow long will it take? \nTo complete this emergency first aid at work qualification learners should expect to undertake 8 hours of learning\, typically over one day\, with a minimum contact time of 6 hours. \nTopics covered \nThe qualification covers knowledge such as the roles and responsibilities of the first aider and how to assess an incident. The qualification also covers first aid skills in CPR and use of an AED\, providing first aid to a casualty who is choking and dealing with external bleeding and hypovolaemic shock. \n  \n\n\nThe Emergency First Aid at Work (EFAW) course is designed to equip individuals with the basic knowledge and skills to provide immediate and appropriate first aid in the workplace. It covers essential lifesaving techniques to respond to various medical emergencies until professional medical help arrives. \n\n\n\n\nWho needs this qualification? \nThis course suits lower-risk work environments\, such as offices\, shops\, or organisations with fewer than 100 employees. \nIt is also suitable for anyone identified by their employer as suitable to take on the role of an emergency first aider in their workplace. \n\n\n\n\nWhy is this training important? \nHaving the skills and knowledge to administer emergency first aid to oneself and others is vital to an organisation’s emergency plans and procedures. This course will equip delegates with the skills and knowledge to deal with life-threatening conditions until help arrives. \nThe H&S (First Aid) regulations 1981 place a general duty on employers to provide first aid treatment to employees within the workplace environment. If having assessed the first aid needs\, an employer appoints first aiders\, the first aider must have a valid certificate of competence. \n\n\n\n\nLearning outcomes \n\n\n\n\nUpon completion of the course\, learners will be able to: \n\nUnderstand the role and responsibility of a first aider\nAssess an incident\nManage a casualty who is unresponsive and NOT breathing normally\nProvide first aid to an unresponsive and breathing normally casualty\nManage a casualty who is in seizure\nRecognise and assist a casualty who is choking\nManage a casualty with external bleeding\nManage a casualty who is in shock\nUnderstand how to manage a casualty with a minor injury\nUnderstand how to manage a casualty with bites or stings\nUnderstand how to manage a casualty with minor burns and scalds
URL:https://amp-training.co.uk/event/emergency-first-aid-at-work/
LOCATION:Acorn House\, Lindum Business Park \,Station Rd\, North Hykeham\,\, Lincoln\, Lincolnshire\, LN6 3QX\, United Kingdom
CATEGORIES:Emergency First Aid At Work
ATTACH;FMTTYPE=image/jpeg:https://amp-training.co.uk/wp-content/uploads/2024/03/FAIB-For-Website.jpg
ORGANIZER;CN="Anthony Porter":MAILTO:ant@amp-training.co.uk
END:VEVENT
BEGIN:VEVENT
DTSTART;TZID=Europe/London:20240827T084500
DTEND;TZID=Europe/London:20240828T170000
DTSTAMP:20260424T120011
CREATED:20240815T124423Z
LAST-MODIFIED:20240815T125808Z
UID:777-1724748300-1724864400@amp-training.co.uk
SUMMARY:SIA Door Supervisors Top-Up Course August 24
DESCRIPTION:We are holding another of our prestIgious SIA Door Supervisors Top up course\, based in North Hykeham\, Lincoln. \nThis course is the requirement to be carrried out before renewing your licence. \nTopics in which we will cover will include: \n  \n\nAnti terrorism.\nUse of equipment for security staff and door supervisors.\nRestraint and breakaway refresher training.\nPositional asphixia.\nAcute Behavioral Distrubance.\n\n  \nFor more information or to book onto this course please contact 01522 262 908. \nprovisionally this course is aimed at people who already hold a minimum of Emergency First Aid at Work\, but if you do not already hold a current certification then this can be arranged. \nThere is free parking on site and easy access to a local train station and bus routes. \nTea and coffee provided during the course and local amenaties to obtain food during the day at break times. \nTo Register for this course CLICK HERE.
URL:https://amp-training.co.uk/event/sia-door-supervisors-top-up-course-august-24/
LOCATION:Acorn House\, Lindum Business Park \,Station Rd\, North Hykeham\,\, Lincoln\, Lincolnshire\, LN6 3QX\, United Kingdom
CATEGORIES:Training
ATTACH;FMTTYPE=image/jpeg:https://amp-training.co.uk/wp-content/uploads/2024/08/ds-top-up-Aug-24.jpg
ORGANIZER;CN="Anthony Porter":MAILTO:ant@amp-training.co.uk
END:VEVENT
END:VCALENDAR